BEGIN:VCALENDAR
VERSION:2.0
PRODID:-//Pittsfield Union Grange - ECPv6.15.20//NONSGML v1.0//EN
CALSCALE:GREGORIAN
METHOD:PUBLISH
X-WR-CALNAME:Pittsfield Union Grange
X-ORIGINAL-URL:https://pittsfieldgrange.org
X-WR-CALDESC:Events for Pittsfield Union Grange
REFRESH-INTERVAL;VALUE=DURATION:PT1H
X-Robots-Tag:noindex
X-PUBLISHED-TTL:PT1H
BEGIN:VTIMEZONE
TZID:America/Detroit
BEGIN:DAYLIGHT
TZOFFSETFROM:-0500
TZOFFSETTO:-0400
TZNAME:EDT
DTSTART:20220313T070000
END:DAYLIGHT
BEGIN:STANDARD
TZOFFSETFROM:-0400
TZOFFSETTO:-0500
TZNAME:EST
DTSTART:20221106T060000
END:STANDARD
BEGIN:DAYLIGHT
TZOFFSETFROM:-0500
TZOFFSETTO:-0400
TZNAME:EDT
DTSTART:20230312T070000
END:DAYLIGHT
BEGIN:STANDARD
TZOFFSETFROM:-0400
TZOFFSETTO:-0500
TZNAME:EST
DTSTART:20231105T060000
END:STANDARD
BEGIN:DAYLIGHT
TZOFFSETFROM:-0500
TZOFFSETTO:-0400
TZNAME:EDT
DTSTART:20240310T070000
END:DAYLIGHT
BEGIN:STANDARD
TZOFFSETFROM:-0400
TZOFFSETTO:-0500
TZNAME:EST
DTSTART:20241103T060000
END:STANDARD
END:VTIMEZONE
BEGIN:VEVENT
DTSTART;TZID=America/Detroit:20230819T180000
DTEND;TZID=America/Detroit:20230819T223000
DTSTAMP:20260425T110322
CREATED:20230814T192229Z
LAST-MODIFIED:20230814T194228Z
UID:355-1692468000-1692484200@pittsfieldgrange.org
SUMMARY:Contra Dance with barbecue & potluck
DESCRIPTION:Carol Steiner calls to music by Pimento Mori. Beginners’ introduction 7:00-ish. Please bring clean shoes for dancing. Pay what you can; $10 suggested. \nThe dance is preceded by a barbecue/potluck at 6:00. The Grange will provide burgers and brats (inciuding veggie options and buns); please bring a side dish or dessert to share.
URL:https://pittsfieldgrange.org/event/contra-dance-with-barbecue-potluck/
LOCATION:Pittsfield Union Grange\, 3337 Ann Arbor-Saline Rd.\, Ann Arbor\, MI\, 48103\, United States
CATEGORIES:Grange-sponsored dance
END:VEVENT
END:VCALENDAR